BEGIN:VCALENDAR
VERSION:2.0
PRODID:-//Anna Lou Wellness - ECPv6.15.13//NONSGML v1.0//EN
CALSCALE:GREGORIAN
METHOD:PUBLISH
X-ORIGINAL-URL:https://annalouwellness.com
X-WR-CALDESC:Events for Anna Lou Wellness
REFRESH-INTERVAL;VALUE=DURATION:PT1H
X-Robots-Tag:noindex
X-PUBLISHED-TTL:PT1H
BEGIN:VTIMEZONE
TZID:UTC
BEGIN:STANDARD
TZOFFSETFROM:+0000
TZOFFSETTO:+0000
TZNAME:UTC
DTSTART:20230101T000000
END:STANDARD
END:VTIMEZONE
BEGIN:VEVENT
DTSTART;TZID=UTC:20241031T190000
DTEND;TZID=UTC:20241031T210000
DTSTAMP:20260425T110127
CREATED:20241020T202408Z
LAST-MODIFIED:20241020T203641Z
UID:21054-1730401200-1730408400@annalouwellness.com
SUMMARY:Witchy wellbeing Halloween party
DESCRIPTION:Witchy crystal wellbeing Halloween party!
URL:https://annalouwellness.com/event/test-event/
LOCATION:Taggs Island\, Half Mile\, Taggs island\, TW122HA
CATEGORIES:Party
ATTACH;FMTTYPE=image/webp:https://annalouwellness.com/wp-content/uploads/2024/10/IMG_2063.webp
ORGANIZER;CN="Anna Lou of London":MAILTO:annalouoflondon.com
END:VEVENT
END:VCALENDAR